BEGIN:VCALENDAR
VERSION:2.0
PRODID:
CALSCALE:GREGORIAN
METHOD:PUBLISH
BEGIN:VTIMEZONE
TZID:Europe/Berlin
BEGIN:STANDARD
DTSTART:20260503T010000
TZOFFSETTO:+0100
TZOFFSETFROM:+0100RRULE:FREQ=YEARLY;BYMONTH=11;BYDAY=1SU
END:STANDARD
BEGIN:DAYLIGHT
DTSTART:20230718T010000
TZOFFSETTO:+0200
TZOFFSETFROM:+0100
RRULE:FREQ=YEARLY;BYMONTH=3;BYDAY=2SU
END:DAYLIGHT
END:VTIMEZONE
BEGIN:VEVENT
UID:69ea485d92ec71.91604450
DTSTART:20260430T113000
DTEND:20260430T120000
RRULE:FREQ=WEEKLY
STATUS:
SUMMARY:LuckyFitness.de Reha Ortho
DESCRIPTION:
LOCATION:LuckyFitness.de Halle (Saale) - halfit
DTSTAMP:20260423T182709Z
END:VEVENT
END:VCALENDAR
