BEGIN:VCALENDAR
VERSION:2.0
PRODID:
CALSCALE:GREGORIAN
METHOD:PUBLISH
BEGIN:VTIMEZONE
TZID:Europe/Berlin
BEGIN:STANDARD
DTSTART:20260503T010000
TZOFFSETTO:+0100
TZOFFSETFROM:+0100RRULE:FREQ=YEARLY;BYMONTH=11;BYDAY=1SU
END:STANDARD
BEGIN:DAYLIGHT
DTSTART:20230718T010000
TZOFFSETTO:+0200
TZOFFSETFROM:+0100
RRULE:FREQ=YEARLY;BYMONTH=3;BYDAY=2SU
END:DAYLIGHT
END:VTIMEZONE
BEGIN:VEVENT
UID:69e5bf5b9a9e53.44459264
DTSTART:20260427T130000
DTEND:20260427T133000
RRULE:FREQ=WEEKLY
STATUS:
SUMMARY:LuckyFitness.de Aqua Reha
DESCRIPTION:
LOCATION:LuckyFitness.de Haldensleben
DTSTAMP:20260420T075331Z
END:VEVENT
END:VCALENDAR
